BEGIN:VCALENDAR
VERSION:2.0
PRODID:-//St Barnabas Theological College/mezzanine-events//NONSGML V0.1.4
 //EN
BEGIN:VEVENT
SUMMARY:Fischpartie
DTSTART;VALUE=DATE-TIME:20261024T180000
DTEND;VALUE=DATE-TIME:20261024T220000
DTSTAMP;VALUE=DATE-TIME:20261024T180000Z
UID:event-43@ffw-saltendorf-boesenbechhofen.de
LOCATION:Feuerwehrhaus
URL:http://ffw-saltendorf-boesenbechhofen.de/einsatzabteilung/aktive1/term
 ine/veranstaltungen/fischpartie/
END:VEVENT
END:VCALENDAR
