BEGIN:VCALENDAR
VERSION:2.0
PRODID:-//St Barnabas Theological College/mezzanine-events//NONSGML V0.1.4
 //EN
BEGIN:VEVENT
SUMMARY:Feuerwehrausflug
DTSTART;VALUE=DATE-TIME:20260913T000000
DTEND;VALUE=DATE-TIME:20260913T235900
DTSTAMP;VALUE=DATE-TIME:20260913T000000Z
UID:event-268@ffw-saltendorf-boesenbechhofen.de
LOCATION:Sommerach
URL:http://ffw-saltendorf-boesenbechhofen.de/feuerwehrausflug-in-den-bayri
 schen-wald-1/
END:VEVENT
END:VCALENDAR
