BEGIN:VCALENDAR
VERSION:2.0
PRODID:-//St Barnabas Theological College/mezzanine-events//NONSGML V0.1.4
 //EN
BEGIN:VEVENT
SUMMARY:Absperrung Faschingsumzug
DTSTART;VALUE=DATE-TIME:20260217T140000
DTEND;VALUE=DATE-TIME:20260217T153000
DTSTAMP;VALUE=DATE-TIME:20260217T140000Z
UID:event-173@ffw-saltendorf-boesenbechhofen.de
LOCATION:Höchstadt/Aisch - Feuerwehr
URL:http://ffw-saltendorf-boesenbechhofen.de/veranstaltungen/absperrung-fa
 schingsumzug/
END:VEVENT
BEGIN:VEVENT
SUMMARY:Aktivenessen
DTSTART;VALUE=DATE-TIME:20260425T190000
DTEND;VALUE=DATE-TIME:20260425T230000
DTSTAMP;VALUE=DATE-TIME:20260425T190000Z
UID:event-114@ffw-saltendorf-boesenbechhofen.de
LOCATION:Feuerwehrhaus
URL:http://ffw-saltendorf-boesenbechhofen.de/veranstaltungen/aktivenessen/
END:VEVENT
BEGIN:VEVENT
SUMMARY:Erste Hilfe Auffrischung
DTSTART;VALUE=DATE-TIME:20230416T090000
DTEND;VALUE=DATE-TIME:20230416T120000
DTSTAMP;VALUE=DATE-TIME:20230416T090000Z
UID:event-274@ffw-saltendorf-boesenbechhofen.de
LOCATION:Saltendorf
URL:http://ffw-saltendorf-boesenbechhofen.de/termine/aktiven-uebungen/herb
 stdienstversammlung-der-kommandanten/
END:VEVENT
BEGIN:VEVENT
SUMMARY:Ewige Anbetung
DTSTART;VALUE=DATE-TIME:20200305T174500
DTEND;VALUE=DATE-TIME:20200305T190000
DTSTAMP;VALUE=DATE-TIME:20200305T174500Z
UID:event-112@ffw-saltendorf-boesenbechhofen.de
LOCATION:FFW Etzelskirchen
URL:http://ffw-saltendorf-boesenbechhofen.de/veranstaltungen/ewige-anbetun
 g/
END:VEVENT
BEGIN:VEVENT
SUMMARY:Festumzug FF Mühlhausen
DTSTART;VALUE=DATE-TIME:20260607T170000
DTEND;VALUE=DATE-TIME:20260607T180000
DTSTAMP;VALUE=DATE-TIME:20260607T170000Z
UID:event-277@ffw-saltendorf-boesenbechhofen.de
LOCATION:Festzelt Mühlhausen
URL:http://ffw-saltendorf-boesenbechhofen.de/termine/aktiven-uebungen/fest
 umzug-125-jahre-ff-schwarzenbach/
END:VEVENT
BEGIN:VEVENT
SUMMARY:Festumzug FF Weisendorf
DTSTART;VALUE=DATE-TIME:20260517T130000
DTEND;VALUE=DATE-TIME:20260517T170000
DTSTAMP;VALUE=DATE-TIME:20260517T130000Z
UID:event-276@ffw-saltendorf-boesenbechhofen.de
LOCATION:Festzelt Weisendorf
URL:http://ffw-saltendorf-boesenbechhofen.de/termine/aktiven-uebungen/feue
 rwehrumzug-spardorf/
END:VEVENT
BEGIN:VEVENT
SUMMARY:Flurprozession nach Medbach
DTSTART;VALUE=DATE-TIME:20260501T064500
DTEND;VALUE=DATE-TIME:20260501T100000
DTSTAMP;VALUE=DATE-TIME:20260501T064500Z
UID:event-266@ffw-saltendorf-boesenbechhofen.de
LOCATION:Kapelle Bösenbechhofen
URL:http://ffw-saltendorf-boesenbechhofen.de/termine/aktiven-uebungen/flur
 prozession-nach-medbach-1/
END:VEVENT
BEGIN:VEVENT
SUMMARY:Frohnleichnahmsprozession
DTSTART;VALUE=DATE-TIME:20260607T084500
DTEND;VALUE=DATE-TIME:20260607T093000
DTSTAMP;VALUE=DATE-TIME:20260607T084500Z
UID:event-118@ffw-saltendorf-boesenbechhofen.de
LOCATION:FFW Etzelskirchen
URL:http://ffw-saltendorf-boesenbechhofen.de/frohnleichnahmsprozession/
END:VEVENT
BEGIN:VEVENT
SUMMARY:Frühjahrsdienstversammlung der Kommandanten
DTSTART;VALUE=DATE-TIME:20260329T090000
DTEND;VALUE=DATE-TIME:20260329T120000
DTSTAMP;VALUE=DATE-TIME:20260329T090000Z
UID:event-270@ffw-saltendorf-boesenbechhofen.de
LOCATION:Seebachtalhalle\nDechsendorfer Straße 2\, Möhrendorf\n
URL:http://ffw-saltendorf-boesenbechhofen.de/termine/aktiven-uebungen/%C3%
 BCbung-aktive-012016/fr%C3%BChjahrsdienstversammlung-der-kommandanten/
END:VEVENT
BEGIN:VEVENT
SUMMARY:Höchstadt Triathlon
DTSTART;VALUE=DATE-TIME:20220918T090000
DTEND;VALUE=DATE-TIME:20220918T150000
DTSTAMP;VALUE=DATE-TIME:20220918T090000Z
UID:event-272@ffw-saltendorf-boesenbechhofen.de
LOCATION:Saltendorf
URL:http://ffw-saltendorf-boesenbechhofen.de/termine/aktiven-uebungen/medw
 ork-triathlon/
END:VEVENT
BEGIN:VEVENT
SUMMARY:Prozession nach Nackendorf
DTSTART;VALUE=DATE-TIME:20200601T094500
DTEND;VALUE=DATE-TIME:20200601T113000
DTSTAMP;VALUE=DATE-TIME:20200601T094500Z
UID:event-117@ffw-saltendorf-boesenbechhofen.de
LOCATION:FFW Etzelskirchen
URL:http://ffw-saltendorf-boesenbechhofen.de/veranstaltungen/prozession-na
 ch-nackendorf/
END:VEVENT
BEGIN:VEVENT
SUMMARY:sonstiges
DTSTART;VALUE=DATE-TIME:20220911T000000
DTEND;VALUE=DATE-TIME:20220911T230000
DTSTAMP;VALUE=DATE-TIME:20220911T000000Z
UID:event-275@ffw-saltendorf-boesenbechhofen.de
LOCATION:Feuerwehrhaus Etzelskirchen
URL:http://ffw-saltendorf-boesenbechhofen.de/termine/aktiven-uebungen/feue
 rwehrumzug-forth/
END:VEVENT
BEGIN:VEVENT
SUMMARY:Übung Aktive April
DTSTART;VALUE=DATE-TIME:20260412T093000
DTEND;VALUE=DATE-TIME:20260412T120000
DTSTAMP;VALUE=DATE-TIME:20260412T093000Z
UID:event-78@ffw-saltendorf-boesenbechhofen.de
LOCATION:Feuerwehrhaus
URL:http://ffw-saltendorf-boesenbechhofen.de/einsatzabteilung/aktive1/term
 ine/uebungen/aktiven-%C3%BCbung-iii/
END:VEVENT
BEGIN:VEVENT
SUMMARY:Übung Aktive Dezember
DTSTART;VALUE=DATE-TIME:20261213T093000
DTEND;VALUE=DATE-TIME:20261213T120000
DTSTAMP;VALUE=DATE-TIME:20261213T093000Z
UID:event-256@ffw-saltendorf-boesenbechhofen.de
LOCATION:Feuerwehrhaus
URL:http://ffw-saltendorf-boesenbechhofen.de/termine/aktiven-uebungen/%C3%
 BCbung-aktive-122017/
END:VEVENT
BEGIN:VEVENT
SUMMARY:Übung Aktive Februar
DTSTART;VALUE=DATE-TIME:20260208T093000
DTEND;VALUE=DATE-TIME:20260208T120000
DTSTAMP;VALUE=DATE-TIME:20260208T093000Z
UID:event-241@ffw-saltendorf-boesenbechhofen.de
LOCATION:Feuerwehrhaus
URL:http://ffw-saltendorf-boesenbechhofen.de/termine/aktiven-uebungen/%C3%
 BCbung-aktive-012016/
END:VEVENT
BEGIN:VEVENT
SUMMARY:Übung Aktive Juli
DTSTART;VALUE=DATE-TIME:20260706T190000
DTEND;VALUE=DATE-TIME:20260706T210000
DTSTAMP;VALUE=DATE-TIME:20260706T190000Z
UID:event-93@ffw-saltendorf-boesenbechhofen.de
LOCATION:Feuerwehrhaus
URL:http://ffw-saltendorf-boesenbechhofen.de/einsatzabteilung/aktive1/term
 ine/aktive-062015/
END:VEVENT
BEGIN:VEVENT
SUMMARY:Übung Aktive Juni
DTSTART;VALUE=DATE-TIME:20260601T190000
DTEND;VALUE=DATE-TIME:20260601T210000
DTSTAMP;VALUE=DATE-TIME:20260601T190000Z
UID:event-80@ffw-saltendorf-boesenbechhofen.de
LOCATION:Feuerwehrhaus
URL:http://ffw-saltendorf-boesenbechhofen.de/einsatzabteilung/aktive1/term
 ine/uebungen/aktiven-%C3%BCbung-052015/
END:VEVENT
BEGIN:VEVENT
SUMMARY:Übung Aktive Mai
DTSTART;VALUE=DATE-TIME:20260503T093000
DTEND;VALUE=DATE-TIME:20260503T120000
DTSTAMP;VALUE=DATE-TIME:20260503T093000Z
UID:event-79@ffw-saltendorf-boesenbechhofen.de
LOCATION:Feuerwehrhaus
URL:http://ffw-saltendorf-boesenbechhofen.de/einsatzabteilung/aktive1/term
 ine/uebungen/aktiven-%C3%BCbung-042015/
END:VEVENT
BEGIN:VEVENT
SUMMARY:Übung Aktive März
DTSTART;VALUE=DATE-TIME:20260308T093000
DTEND;VALUE=DATE-TIME:20260308T210000
DTSTAMP;VALUE=DATE-TIME:20260308T093000Z
UID:event-77@ffw-saltendorf-boesenbechhofen.de
LOCATION:Feuerwehrhaus
URL:http://ffw-saltendorf-boesenbechhofen.de/einsatzabteilung/aktive1/term
 ine/uebungen/aktiven-%C3%BCbung-ii/
END:VEVENT
BEGIN:VEVENT
SUMMARY:Übung Aktive November
DTSTART;VALUE=DATE-TIME:20261108T093000
DTEND;VALUE=DATE-TIME:20261108T120000
DTSTAMP;VALUE=DATE-TIME:20261108T093000Z
UID:event-255@ffw-saltendorf-boesenbechhofen.de
LOCATION:Feuerwehrhaus
URL:http://ffw-saltendorf-boesenbechhofen.de/termine/aktiven-uebungen/%C3%
 BCbung-aktive-112017/
END:VEVENT
BEGIN:VEVENT
SUMMARY:Übung Aktive Oktober
DTSTART;VALUE=DATE-TIME:20261011T093000
DTEND;VALUE=DATE-TIME:20261011T120000
DTSTAMP;VALUE=DATE-TIME:20261011T093000Z
UID:event-254@ffw-saltendorf-boesenbechhofen.de
LOCATION:Feuerwehrhaus
URL:http://ffw-saltendorf-boesenbechhofen.de/termine/aktiven-uebungen/%C3%
 BCbung-aktive-102017/
END:VEVENT
BEGIN:VEVENT
SUMMARY:Übung Aktive September
DTSTART;VALUE=DATE-TIME:20260907T190000
DTEND;VALUE=DATE-TIME:20260907T210000
DTSTAMP;VALUE=DATE-TIME:20260907T190000Z
UID:event-253@ffw-saltendorf-boesenbechhofen.de
LOCATION:Feuerwehrhaus
URL:http://ffw-saltendorf-boesenbechhofen.de/termine/aktiven-uebungen/%C3%
 BCbung-aktive-092017/
END:VEVENT
BEGIN:VEVENT
SUMMARY:Volkstrauertag
DTSTART;VALUE=DATE-TIME:20261115T091500
DTEND;VALUE=DATE-TIME:20261115T110000
DTSTAMP;VALUE=DATE-TIME:20261115T091500Z
UID:event-44@ffw-saltendorf-boesenbechhofen.de
LOCATION:FFW Etzelskirchen
URL:http://ffw-saltendorf-boesenbechhofen.de/einsatzabteilung/aktive1/term
 ine/veranstaltungen/volkstrauertag/
END:VEVENT
END:VCALENDAR
