BEGIN:VCALENDAR
VERSION:2.0
PRODID:-//St Barnabas Theological College/mezzanine-events//NONSGML V0.1.4
 //EN
BEGIN:VEVENT
SUMMARY:Helferessen Grillfest
DTSTART;VALUE=DATE-TIME:20260906T180000
DTEND;VALUE=DATE-TIME:20260906T230000
DTSTAMP;VALUE=DATE-TIME:20260906T180000Z
UID:event-250@ffw-saltendorf-boesenbechhofen.de
LOCATION:Feuerwehrhaus
URL:http://ffw-saltendorf-boesenbechhofen.de/veranstaltungen/generalreinig
 ung-feuerwehrhaus/
END:VEVENT
END:VCALENDAR
